BEGIN:VCALENDAR
VERSION:2.0
PRODID:-//Grow Pittsburgh - ECPv6.15.13.1//NONSGML v1.0//EN
CALSCALE:GREGORIAN
METHOD:PUBLISH
X-WR-CALNAME:Grow Pittsburgh
X-ORIGINAL-URL:https://www.growpittsburgh.org
X-WR-CALDESC:Events for Grow Pittsburgh
REFRESH-INTERVAL;VALUE=DURATION:PT1H
X-Robots-Tag:noindex
X-PUBLISHED-TTL:PT1H
BEGIN:VTIMEZONE
TZID:America/New_York
BEGIN:DAYLIGHT
TZOFFSETFROM:-0500
TZOFFSETTO:-0400
TZNAME:EDT
DTSTART:20230312T070000
END:DAYLIGHT
BEGIN:STANDARD
TZOFFSETFROM:-0400
TZOFFSETTO:-0500
TZNAME:EST
DTSTART:20231105T060000
END:STANDARD
BEGIN:DAYLIGHT
TZOFFSETFROM:-0500
TZOFFSETTO:-0400
TZNAME:EDT
DTSTART:20240310T070000
END:DAYLIGHT
BEGIN:STANDARD
TZOFFSETFROM:-0400
TZOFFSETTO:-0500
TZNAME:EST
DTSTART:20241103T060000
END:STANDARD
BEGIN:DAYLIGHT
TZOFFSETFROM:-0500
TZOFFSETTO:-0400
TZNAME:EDT
DTSTART:20250309T070000
END:DAYLIGHT
BEGIN:STANDARD
TZOFFSETFROM:-0400
TZOFFSETTO:-0500
TZNAME:EST
DTSTART:20251102T060000
END:STANDARD
END:VTIMEZONE
BEGIN:VEVENT
DTSTART;TZID=America/New_York:20240924T163000
DTEND;TZID=America/New_York:20240924T183000
DTSTAMP:20260422T060452
CREATED:20240722T133834Z
LAST-MODIFIED:20240918T150305Z
UID:13785-1727195400-1727202600@www.growpittsburgh.org
SUMMARY:Paw Paw Party at Garden Dreams
DESCRIPTION:Have you ever tasted a pawpaw? Do you know what a pawpaw is? Come to Garden Dreams to sample local pawpaws as they ripen. Gabrielle Marsden will explain their anachronistic ways and discuss the beautiful zebra swallowtail butterfly. A miracle happened this year when a zebra swallowtail showed up in Greenfield and laid eggs for the first time (that we know of) in 87 years. Learn about how you can help re-establish a zebra swallowtail population in Pittsburgh.
URL:https://www.growpittsburgh.org/x/paw-paw-party-at-garden-dreams-3/
LOCATION:Garden Dreams\, 806 Holland Ave.\, Pittsburgh\, PA 15221\, Pittsburgh\, PA\, 15221\, US
ATTACH;FMTTYPE=image/jpeg:https://www.growpittsburgh.org/wp-content/uploads/image_67206657-scaled.jpg
END:VEVENT
BEGIN:VEVENT
DTSTART;TZID=America/New_York:20240919T173000
DTEND;TZID=America/New_York:20240919T190000
DTSTAMP:20260422T060452
CREATED:20240722T134907Z
LAST-MODIFIED:20240822T134814Z
UID:13796-1726767000-1726772400@www.growpittsburgh.org
SUMMARY:Painting With Plants: Making and Painting with Watercolors from the Garden
DESCRIPTION:In this workshop\, you’ll learn how to make pastel pigments from flowers and how to apply them with simple watercolor techniques.
URL:https://www.growpittsburgh.org/x/painting-with-plants-making-and-painting-with-watercolors-from-the-garden/
LOCATION:Garden Dreams\, 806 Holland Ave.\, Pittsburgh\, PA 15221\, Pittsburgh\, PA\, 15221\, US
ATTACH;FMTTYPE=image/jpeg:https://www.growpittsburgh.org/wp-content/uploads/IMG_7199-scaled.jpg
END:VEVENT
BEGIN:VEVENT
DTSTART;TZID=America/New_York:20240918T173000
DTEND;TZID=America/New_York:20240918T190000
DTSTAMP:20260422T060452
CREATED:20240722T134731Z
LAST-MODIFIED:20240722T134731Z
UID:13794-1726680600-1726686000@www.growpittsburgh.org
SUMMARY:Pepper School
DESCRIPTION:Learn how to grow and care for your home pepper garden that will take your culinary dishes to the next level. Participants will learn about growing peppers in containers and in-ground beds. We will touch on seed starting\, cultivation techniques\, pest/disease issues\, and favorite varieties and do an informal tasting\, most likely just right off the plants.
URL:https://www.growpittsburgh.org/x/pepper-school-2/
LOCATION:Churchview Farm\, 3897 Churchview Avenue Extension \, Pittsburgh\, PA\, 15236\, United States
ATTACH;FMTTYPE=image/jpeg:https://www.growpittsburgh.org/wp-content/uploads/DSC_0774-scaled.jpg
END:VEVENT
BEGIN:VEVENT
DTSTART;TZID=America/New_York:20240917T163000
DTEND;TZID=America/New_York:20240917T183000
DTSTAMP:20260422T060452
CREATED:20240722T133812Z
LAST-MODIFIED:20240819T155640Z
UID:13784-1726590600-1726597800@www.growpittsburgh.org
SUMMARY:Paw Paw Party at Garden Dreams
DESCRIPTION:Have you ever tasted a pawpaw? Do you know what a pawpaw is? Come to Garden Dreams to sample local pawpaws as they ripen. Gabrielle Marsden will explain their anachronistic ways and discuss the beautiful zebra swallowtail butterfly. A miracle happened this year when a zebra swallowtail showed up in Greenfield and laid eggs for the first time (that we know of) in 87 years. Learn about how you can help re-establish a zebra swallowtail population in Pittsburgh.
URL:https://www.growpittsburgh.org/x/paw-paw-party-at-garden-dreams-2/
LOCATION:Garden Dreams\, 806 Holland Ave.\, Pittsburgh\, PA 15221\, Pittsburgh\, PA\, 15221\, US
ATTACH;FMTTYPE=image/jpeg:https://www.growpittsburgh.org/wp-content/uploads/image_67206657-scaled.jpg
END:VEVENT
BEGIN:VEVENT
DTSTART;TZID=America/New_York:20240911T180000
DTEND;TZID=America/New_York:20240911T193000
DTSTAMP:20260422T060452
CREATED:20240722T134327Z
LAST-MODIFIED:20240722T134327Z
UID:13790-1726077600-1726083000@www.growpittsburgh.org
SUMMARY:Back to School Teacher Workshop: Fall Planting Basics
DESCRIPTION:Plan your fall planting with the school gardens team. Learn basic strategies for crop rotation throughout the year and leave prepared to clean up your garden this fall.
URL:https://www.growpittsburgh.org/x/back-to-school-teacher-workshop-fall-planting-basics/
LOCATION:Garden Dreams\, 806 Holland Ave\, Pittsburgh\, PA\, 15221\, United States
ATTACH;FMTTYPE=image/jpeg:https://www.growpittsburgh.org/wp-content/uploads/IMG_4667-scaled.jpg
END:VEVENT
BEGIN:VEVENT
DTSTART;TZID=America/New_York:20240910T180000
DTEND;TZID=America/New_York:20240910T190000
DTSTAMP:20260422T060452
CREATED:20240722T134147Z
LAST-MODIFIED:20240722T134147Z
UID:13788-1725991200-1725994800@www.growpittsburgh.org
SUMMARY:Extending the Garden Season
DESCRIPTION:Learn some strategies for Fall and Winter growing in the home garden.
URL:https://www.growpittsburgh.org/x/extending-the-garden-season/
LOCATION:Braddock Farms\, 1000 Braddock Avenue\, Braddock\, PA 15104\, Braddock\, PA\, 15104\, US
ATTACH;FMTTYPE=image/jpeg:https://www.growpittsburgh.org/wp-content/uploads/DSCF9569-scaled.jpg
END:VEVENT
BEGIN:VEVENT
DTSTART;TZID=America/New_York:20240910T150000
DTEND;TZID=America/New_York:20240910T180000
DTSTAMP:20260422T060452
CREATED:20240715T155836Z
LAST-MODIFIED:20240715T155836Z
UID:13766-1725980400-1725991200@www.growpittsburgh.org
SUMMARY:Shiloh Farm Open House
DESCRIPTION:Come check out Shiloh Farm and see all the food and community we are growing in North Point Breeze! Take a tour of our quarter-acre production farm and meet our laying hens\, honeybees\, and more! We will have free food cooking on the grill\, tomato-tasting\, and art activities for kids and adults.
URL:https://www.growpittsburgh.org/x/shiloh-farm-open-house/
LOCATION:Shiloh Farm\, 7211 Thomas Boulevard\, Pittsburgh\, PA\, 15208\, United States
ATTACH;FMTTYPE=image/jpeg:https://www.growpittsburgh.org/wp-content/uploads/image1-1.jpg
END:VEVENT
BEGIN:VEVENT
DTSTART;TZID=America/New_York:20240907T133000
DTEND;TZID=America/New_York:20240907T150000
DTSTAMP:20260422T060452
CREATED:20240722T134008Z
LAST-MODIFIED:20240830T155819Z
UID:13786-1725715800-1725721200@www.growpittsburgh.org
SUMMARY:Water Bath Canning for beginners: Pickled Jalapenos
DESCRIPTION:Turn that harvest of peppers into delicious pickled peppers. This will be a workshop that is easy for beginners to follow along and make their very own water bath pickled peppers.
URL:https://www.growpittsburgh.org/x/water-bath-canning-for-beginners-pickled-jalapenos/
LOCATION:Braddock Farms\, 1000 Braddock Avenue\, Braddock\, PA 15104\, Braddock\, PA\, 15104\, US
ATTACH;FMTTYPE=image/jpeg:https://www.growpittsburgh.org/wp-content/uploads/DSC_0402-scaled.jpg
END:VEVENT
BEGIN:VEVENT
DTSTART;TZID=America/New_York:20240903T163000
DTEND;TZID=America/New_York:20240903T183000
DTSTAMP:20260422T060452
CREATED:20240722T133745Z
LAST-MODIFIED:20240819T155650Z
UID:13782-1725381000-1725388200@www.growpittsburgh.org
SUMMARY:Paw Paw Party at Garden Dreams
DESCRIPTION:Have you ever tasted a pawpaw? Do you know what a pawpaw is? Come to Garden Dreams to sample local pawpaws as they ripen. Gabrielle Marsden will explain their anachronistic ways and discuss the beautiful zebra swallowtail butterfly. A miracle happened this year when a zebra swallowtail showed up in Greenfield and laid eggs for the first time (that we know of) in 87 years. Learn about how you can help re-establish a zebra swallowtail population in Pittsburgh.
URL:https://www.growpittsburgh.org/x/paw-paw-party-at-garden-dreams/
LOCATION:Garden Dreams\, 806 Holland Ave.\, Pittsburgh\, PA 15221\, Pittsburgh\, PA\, 15221\, US
ATTACH;FMTTYPE=image/jpeg:https://www.growpittsburgh.org/wp-content/uploads/image_67206657-scaled.jpg
END:VEVENT
BEGIN:VEVENT
DTSTART;TZID=America/New_York:20240828T173000
DTEND;TZID=America/New_York:20240828T190000
DTSTAMP:20260422T060452
CREATED:20240620T144022Z
LAST-MODIFIED:20240620T144022Z
UID:13736-1724866200-1724871600@www.growpittsburgh.org
SUMMARY:Tomato School
DESCRIPTION:Learn how to grow and care for your home tomato garden. Farmers Tara & Hanna will guide participants through the Shiloh tomato field and discuss everything from seed selection and transplanting\, to trellising and pruning\, harvesting best practices\, to pest and disease management. We will share insight into favorite preparations & uses. Plus\, we will have some of our favorite go-to resources on hand to share. We will do a taste test of our favorite varieites!
URL:https://www.growpittsburgh.org/x/tomato-school-2/
LOCATION:Shiloh Farm\, 7211 Thomas Boulevard\, Pittsburgh\, PA\, 15208\, United States
ATTACH;FMTTYPE=image/jpeg:https://www.growpittsburgh.org/wp-content/uploads/DSC_0540-1-scaled.jpg
END:VEVENT
BEGIN:VEVENT
DTSTART;TZID=America/New_York:20240827T180000
DTEND;TZID=America/New_York:20240827T193000
DTSTAMP:20260422T060452
CREATED:20240722T133612Z
LAST-MODIFIED:20240722T133612Z
UID:13780-1724781600-1724787000@www.growpittsburgh.org
SUMMARY:Growing for Donation: Community Garden Production & Distribution Strategies
DESCRIPTION:Many community gardens seek to increase fresh food access in their neighborhoods by growing crops to share with community members for free\, or donating produce to local food pantries. How can we make the most of our efforts to grow healthy\, productive crops for donation? Learn from local garden leaders and Grow Pittsburgh staff. \nThanks to Penn Hills Community Garden for hosting! We’ll take a tour of their active donation garden\, check out their solar-powered produce cooler and greenhouse\, and learn about their operations
URL:https://www.growpittsburgh.org/x/growing-for-donation-community-garden-production-distribution-strategies/
LOCATION:Penn Hills Community Garden\, 1160 Jefferson Road\, Penn Hills\, PA\, 15235\, Select a Country:
ATTACH;FMTTYPE=image/jpeg:https://www.growpittsburgh.org/wp-content/uploads/DSC_0341-scaled.jpg
END:VEVENT
BEGIN:VEVENT
DTSTART;TZID=America/New_York:20240820T180000
DTEND;TZID=America/New_York:20240820T190000
DTSTAMP:20260422T060452
CREATED:20240722T133326Z
LAST-MODIFIED:20240722T133326Z
UID:13778-1724176800-1724180400@www.growpittsburgh.org
SUMMARY:Pest & Disease Walk
DESCRIPTION:Join us for a Summer Pest and Disease walk with Penn State Extension agent Glen Bupp
URL:https://www.growpittsburgh.org/x/pest-disease-walk/
LOCATION:Braddock Farms\, 1000 Braddock Avenue\, Braddock\, PA 15104\, Braddock\, PA\, 15104\, US
ATTACH;FMTTYPE=image/jpeg:https://www.growpittsburgh.org/wp-content/uploads/unnamed-5-1.jpg
END:VEVENT
BEGIN:VEVENT
DTSTART;TZID=America/New_York:20240817T100000
DTEND;TZID=America/New_York:20240817T120000
DTSTAMP:20260422T060452
CREATED:20240523T201433Z
LAST-MODIFIED:20240523T201433Z
UID:13697-1723888800-1723896000@www.growpittsburgh.org
SUMMARY:Volunteer Day at Braddock Farms
DESCRIPTION:Join us for our Monthly Volunteer Project at Braddock Farms. Open to anyone wanting to volunteer with Grow Pittsburgh. You will help out with things like: Mulching pathways\, weeding and cultivating garden beds\, general clean-up and beautification of the farm and the surrounding area\, flower plantings\, etc.
URL:https://www.growpittsburgh.org/x/volunteer-day-at-braddock-farms-6/
LOCATION:Braddock Farms\, 1000 Braddock Avenue\, Braddock\, PA 15104\, Braddock\, PA\, 15104\, US
ATTACH;FMTTYPE=image/jpeg:https://www.growpittsburgh.org/wp-content/uploads/AM5A5413-scaled.jpg
END:VEVENT
BEGIN:VEVENT
DTSTART;TZID=America/New_York:20240730T173000
DTEND;TZID=America/New_York:20240730T190000
DTSTAMP:20260422T060452
CREATED:20240620T143815Z
LAST-MODIFIED:20240620T143815Z
UID:13735-1722360600-1722366000@www.growpittsburgh.org
SUMMARY:Eat Your Garden Weeds
DESCRIPTION:Mid Summer is often when our gardens get taken over by weeds\, but don’t despair! While keeping your garden beds weeded is important so your veggies can thrive\, many of these pesky plants are actually delicious\, nutritious and edible. Learn how to identify the tastiest weeds in your garden as well the best ways to harvest\, process and cook with these underrated culinary gems. Plus\, gain a better understanding of when and how to weed to keep your garden from getting out of control.
URL:https://www.growpittsburgh.org/x/eat-your-garden-weeds-2/
LOCATION:Shiloh Farm\, 7211 Thomas Boulevard\, Pittsburgh\, PA\, 15208\, United States
ATTACH;FMTTYPE=image/jpeg:https://www.growpittsburgh.org/wp-content/uploads/IMG_9950.jpg
END:VEVENT
BEGIN:VEVENT
DTSTART;TZID=America/New_York:20240724T173000
DTEND;TZID=America/New_York:20240724T190000
DTSTAMP:20260422T060452
CREATED:20240315T154705Z
LAST-MODIFIED:20240315T154705Z
UID:13634-1721842200-1721847600@www.growpittsburgh.org
SUMMARY:Flower School
DESCRIPTION:Learn how to grow a cut flower garden in your yard! Tara and Hanna will discuss our favorite varieties\, including both annuals and perennials. We will talk about planting techniques\, basic garden maintence\, and proper harvest.
URL:https://www.growpittsburgh.org/x/flower-school/
LOCATION:Churchview Farm\, 3897 Churchview Avenue Extension \, Pittsburgh\, PA\, 15236\, United States
CATEGORIES:Workshops
ATTACH;FMTTYPE=image/jpeg:https://www.growpittsburgh.org/wp-content/uploads/IMG_7667-scaled.jpg
END:VEVENT
BEGIN:VEVENT
DTSTART;TZID=America/New_York:20240722T173000
DTEND;TZID=America/New_York:20240722T200000
DTSTAMP:20260422T060452
CREATED:20240710T194335Z
LAST-MODIFIED:20240710T194335Z
UID:13760-1721669400-1721678400@www.growpittsburgh.org
SUMMARY:Picnic at Shiloh
DESCRIPTION:Enjoy a picnic dinner at Shiloh Farm while supporting Grow Pittsburgh! \nIn collaboration with the culinary creatives behind the Giving Series\, Lola’s Eatery & @iamrachelbakes\, guests will enjoy a picnic basket filled with farm-fresh goodies & unique non-alcoholic beverages while learning about Grow Pittsburgh’s programming. \nThis event is BYOB (booze & blankets). Feel free to bring a chair if that’s more your style. \nShiloh Farm is a small farm\, so baskets will be served in two sessions to ensure that guests have enough room to spread out and enjoy the space. \nEach ticket reserves 1 picnic basket\, which serves 2 people. \nThis is a fundraiser with sliding scale tickets. Please give as generously as you can. All proceeds benefit Grow Pittsburgh’s work to help teach people how to grow food and to promote the many benefits gardens bring to our neighborhoods.
URL:https://www.growpittsburgh.org/x/picnic-at-shiloh/
LOCATION:Shiloh Farm\, 7211 Thomas Boulevard\, Pittsburgh\, PA\, 15208\, United States
ATTACH;FMTTYPE=image/png:https://www.growpittsburgh.org/wp-content/uploads/Picnic-at-Shiloh-Farm-flyer-1-3.png
END:VEVENT
BEGIN:VEVENT
DTSTART;TZID=America/New_York:20240720T100000
DTEND;TZID=America/New_York:20240720T120000
DTSTAMP:20260422T060452
CREATED:20240523T200904Z
LAST-MODIFIED:20240523T200904Z
UID:13696-1721469600-1721476800@www.growpittsburgh.org
SUMMARY:Volunteer Day at Braddock Farms
DESCRIPTION:Join us for our Monthly Volunteer Project at Braddock Farms. Open to anyone wanting to volunteer with Grow Pittsburgh. You will help out with things like: Mulching pathways\, weeding and cultivating garden beds\, general clean-up and beautification of the farm and the surrounding area\, flower plantings\, etc.
URL:https://www.growpittsburgh.org/x/volunteer-day-at-braddock-farms-5/
LOCATION:Braddock Farms\, 1000 Braddock Avenue\, Braddock\, PA 15104\, Braddock\, PA\, 15104\, US
ATTACH;FMTTYPE=image/jpeg:https://www.growpittsburgh.org/wp-content/uploads/AM5A5413-scaled.jpg
END:VEVENT
BEGIN:VEVENT
DTSTART;TZID=America/New_York:20240719T153000
DTEND;TZID=America/New_York:20240719T170000
DTSTAMP:20260422T060452
CREATED:20240709T205620Z
LAST-MODIFIED:20240709T205620Z
UID:13757-1721403000-1721408400@www.growpittsburgh.org
SUMMARY:Zucchini Day 2024
DESCRIPTION:Join us for National Zucchini Day at our Braddock Farm! We will be grilling up Zucchini at our farm from 3:30pm-5 pm so you can share in the abundance. Plus\, bring your largest zucchini in for our biggest zucchini contest weigh-off\, with a prize for the biggest!
URL:https://www.growpittsburgh.org/x/zucchini-day-2024/
LOCATION:Braddock Farms\, 1000 Braddock Avenue\, Braddock\, PA 15104\, Braddock\, PA\, 15104\, US
ATTACH;FMTTYPE=image/jpeg:https://www.growpittsburgh.org/wp-content/uploads/DSC_0453_2-scaled.jpg
END:VEVENT
BEGIN:VEVENT
DTSTART;TZID=America/New_York:20240615T100000
DTEND;TZID=America/New_York:20240615T120000
DTSTAMP:20260422T060452
CREATED:20240523T200750Z
LAST-MODIFIED:20240523T200750Z
UID:13694-1718445600-1718452800@www.growpittsburgh.org
SUMMARY:Volunteer Day att Braddock Farms
DESCRIPTION:Join us for our Monthly Volunteer Project at Braddock Farms. Open to anyone wanting to volunteer with Grow Pittsburgh. You will help out with things like: Mulching pathways\, weeding and cultivating garden beds\, general clean-up and beautification of the farm and the surrounding area\, flower plantings\, etc.
URL:https://www.growpittsburgh.org/x/volunteer-day-att-braddock-farms/
LOCATION:Braddock Farms\, 1000 Braddock Avenue\, Braddock\, PA 15104\, Braddock\, PA\, 15104\, US
ATTACH;FMTTYPE=image/jpeg:https://www.growpittsburgh.org/wp-content/uploads/AM5A5413-scaled.jpg
END:VEVENT
BEGIN:VEVENT
DTSTART;TZID=America/New_York:20240611T173000
DTEND;TZID=America/New_York:20240611T190000
DTSTAMP:20260422T060452
CREATED:20240315T154507Z
LAST-MODIFIED:20240315T154541Z
UID:13633-1718127000-1718132400@www.growpittsburgh.org
SUMMARY:Backyard Farm School: Chickens
DESCRIPTION:Chickens are inexpensive and easy to maintain\, and their eggs are beautiful\, great-tasting & nutritious. Participants will leave this workshop with the knowledge they need to raise their own flock.
URL:https://www.growpittsburgh.org/x/backyard-farm-school-chickens-2/
LOCATION:Shiloh Farm\, 7211 Thomas Boulevard\, Pittsburgh\, PA\, 15208\, United States
CATEGORIES:Workshops
ATTACH;FMTTYPE=image/jpeg:https://www.growpittsburgh.org/wp-content/uploads/IMG_20210125_100022922_HDR-scaled.jpg
END:VEVENT
BEGIN:VEVENT
DTSTART;TZID=America/New_York:20240606T180000
DTEND;TZID=America/New_York:20240606T190000
DTSTAMP:20260422T060452
CREATED:20240315T154340Z
LAST-MODIFIED:20240315T154354Z
UID:13632-1717696800-1717700400@www.growpittsburgh.org
SUMMARY:Pressure Canning 101
DESCRIPTION:Interested in pressure canning but not sure where to start? Join Grow Pittsburgh for an introductory workshop that will discuss what foods should be pressure canned\, how pressure canning works\, and safety while pressure canning. Participants will leave this workshop with a basic understanding of how pressure canners work\, when to pressure can vs. water bath can\, basic safety guidelines for pressure canning\, and where to find recipes and tips. \n  \nModern pressure canners are much safer to use in home-kitchens than they used to be\, and pressure canning can be a great way to preserve your summer harvest! Pressure canning is the only safe way to can low-acid foods like veggies\, meat\, or stock.
URL:https://www.growpittsburgh.org/x/pressure-canning-101/
LOCATION:Braddock Farms\, 1000 Braddock Avenue\, Braddock\, PA 15104\, Braddock\, PA\, 15104\, US
CATEGORIES:Workshops
ATTACH;FMTTYPE=image/png:https://www.growpittsburgh.org/wp-content/uploads/image-7.png
END:VEVENT
BEGIN:VEVENT
DTSTART;TZID=America/New_York:20240605T173000
DTEND;TZID=America/New_York:20240605T190000
DTSTAMP:20260422T060452
CREATED:20240409T134412Z
LAST-MODIFIED:20240409T134534Z
UID:13657-1717608600-1717614000@www.growpittsburgh.org
SUMMARY:How to Grow a Culinary Herb Garden
DESCRIPTION:Learn how to grow and care for your home herb garden to take your culinary dishes to the next level this season. Participants will tour the gardens. Tara and Hanna will discuss herbs cultivated at both Churchview and Grow Pittsburgh. They will share their favorite uses and recipes. Everyone will take home herb seedlings (courtesy of GP) and will leave smelling enchantingly of rosemary and basil.
URL:https://www.growpittsburgh.org/x/how-to-grow-a-culinary-herb-garden/
LOCATION:Churchview Farm\, 3897 Churchview Avenue Extension \, Pittsburgh\, PA\, 15236\, United States
ATTACH;FMTTYPE=image/jpeg:https://www.growpittsburgh.org/wp-content/uploads/IMG_4474-scaled-e1712670246279.jpeg
END:VEVENT
BEGIN:VEVENT
DTSTART;TZID=America/New_York:20240604T180000
DTEND;TZID=America/New_York:20240604T190000
DTSTAMP:20260422T060452
CREATED:20240315T154216Z
LAST-MODIFIED:20240315T154216Z
UID:13631-1717524000-1717527600@www.growpittsburgh.org
SUMMARY:Growing Berries
DESCRIPTION:Growing berries is one of the most rewarding home crops. Learn how Braddock Farm grows Red Raspberries\, Black Raspberries\, Blackberries and Grapes
URL:https://www.growpittsburgh.org/x/growing-berries/
LOCATION:Braddock Farms\, 1000 Braddock Avenue\, Braddock\, PA 15104\, Braddock\, PA\, 15104\, US
ATTACH;FMTTYPE=image/jpeg:https://www.growpittsburgh.org/wp-content/uploads/https___cdn.evbuc_.com_images_495551059_256702748240_1_original.jpeg
END:VEVENT
BEGIN:VEVENT
DTSTART;TZID=America/New_York:20240516T173000
DTEND;TZID=America/New_York:20240516T190000
DTSTAMP:20260422T060452
CREATED:20240315T154100Z
LAST-MODIFIED:20240315T154100Z
UID:13630-1715880600-1715886000@www.growpittsburgh.org
SUMMARY:Eat Your Garden Weeds
DESCRIPTION:As the weather gets hot\, weeds in the garden start to explode! And while keeping your garden beds weeded is important so your veggies can thrive\, many of these pesky plants are actually delicious\, nutritious and edible. Learn how to identify the tastiest weeds in your garden as well the best ways to harvest\, process and cook with these underrated culinary gems. Plus\, gain a better understanding of when and how to weed to keep your garden from getting out of control.
URL:https://www.growpittsburgh.org/x/eat-your-garden-weeds/
LOCATION:Shiloh Farm\, 7211 Thomas Boulevard\, Pittsburgh\, PA\, 15208\, United States
CATEGORIES:Workshops
ATTACH;FMTTYPE=image/jpeg:https://www.growpittsburgh.org/wp-content/uploads/IMG_9950.jpg
END:VEVENT
BEGIN:VEVENT
DTSTART;TZID=America/New_York:20240514T180000
DTEND;TZID=America/New_York:20240514T190000
DTSTAMP:20260422T060452
CREATED:20240315T153917Z
LAST-MODIFIED:20240315T153936Z
UID:13629-1715709600-1715713200@www.growpittsburgh.org
SUMMARY:Irrigation
DESCRIPTION:We will discuss the basics of designing and building an irrigation system for your garden. Proper irrigation is the number one way you can improve crop yields and have better tasting fruit and vegetables. We will discuss the benefits and trade offs of: drip tape vs overhead sprinklers for delivering water to your crops. This event includes a tour of the Braddock Farm irrigation systems so you can see real life applications of the system.
URL:https://www.growpittsburgh.org/x/irrigation/
LOCATION:Braddock Farms\, 1000 Braddock Avenue\, Braddock\, PA 15104\, Braddock\, PA\, 15104\, US
CATEGORIES:Workshops
ATTACH;FMTTYPE=image/png:https://www.growpittsburgh.org/wp-content/uploads/Photo-courtesy-of-Nancy-Andrews.png
END:VEVENT
BEGIN:VEVENT
DTSTART;TZID=America/New_York:20240420T100000
DTEND;TZID=America/New_York:20240420T120000
DTSTAMP:20260422T060452
CREATED:20240205T133405Z
LAST-MODIFIED:20240321T143852Z
UID:13545-1713607200-1713614400@www.growpittsburgh.org
SUMMARY:Outdoor Mushroom Cultivation
DESCRIPTION:Get an overview of the fascinating world of fungi and how you can incorporate their many attributes into your gardening. Participants will get a hands-on learning experience and go home with the supplies to grow their own winecap mushrooms\, as well as the knowledge and resources to grow several other kinds of delicious and healthy mushrooms\, such as shiitake\, lion’s mane\, and oyster.
URL:https://www.growpittsburgh.org/x/outdoor-mushroom-cultivation-2/
LOCATION:Garden Dreams\, 806 Holland Ave.\, Pittsburgh\, PA 15221\, Pittsburgh\, PA\, 15221\, US
ATTACH;FMTTYPE=image/jpeg:https://www.growpittsburgh.org/wp-content/uploads/https___cdn.evbuc_.com_images_451097079_256702748240_1_original-1.jpeg
END:VEVENT
BEGIN:VEVENT
DTSTART;TZID=America/New_York:20240416T180000
DTEND;TZID=America/New_York:20240416T190000
DTSTAMP:20260422T060452
CREATED:20240315T153753Z
LAST-MODIFIED:20240315T153753Z
UID:13628-1713290400-1713294000@www.growpittsburgh.org
SUMMARY:Raised Garden Beds
DESCRIPTION:Join us at the GRC to learn how to build Raised Garden Beds!
URL:https://www.growpittsburgh.org/x/raised-garden-beds/
LOCATION:Garden Resource Center\, 147 Putnam St\, Pittsburgh\, PA\, 15206\, United States
CATEGORIES:Workshops
ATTACH;FMTTYPE=image/jpeg:https://www.growpittsburgh.org/wp-content/uploads/IMG_2159-1-scaled.jpg
END:VEVENT
BEGIN:VEVENT
DTSTART;TZID=America/New_York:20240413T130000
DTEND;TZID=America/New_York:20240413T143000
DTSTAMP:20260422T060452
CREATED:20240315T153423Z
LAST-MODIFIED:20240315T153429Z
UID:13626-1713013200-1713018600@www.growpittsburgh.org
SUMMARY:Intro to Gardening: Caring for your Garden
DESCRIPTION:You planted your garden…. now what?! In this workshop\, you will learn about basic organic garden maintenance. We will cover weeding\, mulching\, pest & disease identification and management and soil health. We will also talk about succession planting to get the most out of our urban spaces.
URL:https://www.growpittsburgh.org/x/intro-to-gardening-caring-for-your-garden-2/
LOCATION:Garden Dreams\, 806 Holland Ave.\, Pittsburgh\, PA 15221\, Pittsburgh\, PA\, 15221\, US
CATEGORIES:Workshops
ATTACH;FMTTYPE=image/jpeg:https://www.growpittsburgh.org/wp-content/uploads/https___cdn.evbuc_.com_images_686924929_256702748240_1_original-1.jpeg
END:VEVENT
BEGIN:VEVENT
DTSTART;TZID=America/New_York:20240409T173000
DTEND;TZID=America/New_York:20240409T183000
DTSTAMP:20260422T060452
CREATED:20240315T153131Z
LAST-MODIFIED:20240315T153131Z
UID:13618-1712683800-1712687400@www.growpittsburgh.org
SUMMARY:Native Plants
DESCRIPTION:Learn about native plants in the Pennsylvania /Pittsburgh area with the Western PA chapter of Wild Ones!
URL:https://www.growpittsburgh.org/x/native-plants/
LOCATION:Garden Resource Center\, 147 Putnam St\, Pittsburgh\, PA\, 15206\, United States
CATEGORIES:Workshops
ATTACH;FMTTYPE=image/jpeg:https://www.growpittsburgh.org/wp-content/uploads/IMG_20210716_121553005_HDR-scaled.jpg
END:VEVENT
BEGIN:VEVENT
DTSTART;TZID=America/New_York:20240404T173000
DTEND;TZID=America/New_York:20240404T190000
DTSTAMP:20260422T060452
CREATED:20231212T184112Z
LAST-MODIFIED:20231212T184112Z
UID:13523-1712251800-1712257200@www.growpittsburgh.org
SUMMARY:Container Gardening
DESCRIPTION:In this workshop attendees will learn about the basics of growing plants in pots and containers. We will discuss some pros and cons of container gardening\, learn about good container varieties to grow\, and much more! There will be a hands on component where participants can seed and take home their very own spinach or lettuce in 4 inch pots. Geared towards beginner urban and small scale growers.
URL:https://www.growpittsburgh.org/x/container-gardening-2/
LOCATION:Garden Dreams\, 806 Holland Ave.\, Pittsburgh\, PA 15221\, Pittsburgh\, PA\, 15221\, US
ATTACH;FMTTYPE=image/jpeg:https://www.growpittsburgh.org/wp-content/uploads/Container-Gardens-1-of-2-1-scaled.jpg
END:VEVENT
END:VCALENDAR